BEGIN:VCALENDAR
VERSION:2.0
PRODID:-//Peck Slip School P.S. 343 - ECPv6.14.0//NONSGML v1.0//EN
CALSCALE:GREGORIAN
METHOD:PUBLISH
X-ORIGINAL-URL:http://www.peckslip.org
X-WR-CALDESC:Events for Peck Slip School P.S. 343
REFRESH-INTERVAL;VALUE=DURATION:PT1H
X-Robots-Tag:noindex
X-PUBLISHED-TTL:PT1H
BEGIN:VTIMEZONE
TZID:America/Halifax
BEGIN:DAYLIGHT
TZOFFSETFROM:-0400
TZOFFSETTO:-0300
TZNAME:ADT
DTSTART:20190310T060000
END:DAYLIGHT
BEGIN:STANDARD
TZOFFSETFROM:-0300
TZOFFSETTO:-0400
TZNAME:AST
DTSTART:20191103T050000
END:STANDARD
END:VTIMEZONE
BEGIN:VEVENT
DTSTART;TZID=America/Halifax:20190401T083000
DTEND;TZID=America/Halifax:20190401T093000
DTSTAMP:20260421T090536
CREATED:20190327T183645Z
LAST-MODIFIED:20190327T183645Z
UID:9246-1554107400-1554111000@www.peckslip.org
SUMMARY:Auction Committee Meeting
DESCRIPTION:In the Cafeteria.
URL:http://www.peckslip.org/event/auction-committee-meeting-13/
END:VEVENT
BEGIN:VEVENT
DTSTART;TZID=America/Halifax:20190402T080000
DTEND;TZID=America/Halifax:20190403T170000
DTSTAMP:20260421T090536
CREATED:20190124T140957Z
LAST-MODIFIED:20190124T140957Z
UID:9150-1554192000-1554310800@www.peckslip.org
SUMMARY:State ELA Test for Grades 3-5
DESCRIPTION:
URL:http://www.peckslip.org/event/state-ela-test-for-grades-3-5/
END:VEVENT
BEGIN:VEVENT
DTSTART;TZID=America/Halifax:20190403T083000
DTEND;TZID=America/Halifax:20190403T093000
DTSTAMP:20260421T090536
CREATED:20180719T172227Z
LAST-MODIFIED:20180719T172227Z
UID:7942-1554280200-1554283800@www.peckslip.org
SUMMARY:PTA Executive Board Meeting
DESCRIPTION:
URL:http://www.peckslip.org/event/pta-executive-board-meeting-24/
END:VEVENT
BEGIN:VEVENT
DTSTART;TZID=America/Halifax:20190404T083000
DTEND;TZID=America/Halifax:20190404T100000
DTSTAMP:20260421T090536
CREATED:20190301T135530Z
LAST-MODIFIED:20190301T135530Z
UID:9220-1554366600-1554372000@www.peckslip.org
SUMMARY:Me. You. Us. Inclusion Workshop
DESCRIPTION:
URL:http://www.peckslip.org/event/me-you-us-inclusion-workshop-4/
END:VEVENT
BEGIN:VEVENT
DTSTART;TZID=America/Halifax:20190405T083000
DTEND;TZID=America/Halifax:20190405T093000
DTSTAMP:20260421T090536
CREATED:20181121T190525Z
LAST-MODIFIED:20181121T191014Z
UID:8936-1554453000-1554456600@www.peckslip.org
SUMMARY:Breakfast with Maggie
DESCRIPTION:
URL:http://www.peckslip.org/event/breakfast-with-maggie-21/
END:VEVENT
BEGIN:VEVENT
DTSTART;TZID=America/Halifax:20190405T085000
DTEND;TZID=America/Halifax:20190405T093000
DTSTAMP:20260421T090536
CREATED:20190104T150214Z
LAST-MODIFIED:20190104T150214Z
UID:9081-1554454200-1554456600@www.peckslip.org
SUMMARY:5th Grade Family Visit
DESCRIPTION:8:50am – location TBD
URL:http://www.peckslip.org/event/5th-grade-family-visit-10/
END:VEVENT
BEGIN:VEVENT
DTSTART;TZID=America/Halifax:20190406T150000
DTEND;TZID=America/Halifax:20190406T180000
DTSTAMP:20260421T090537
CREATED:20190118T181916Z
LAST-MODIFIED:20190118T181916Z
UID:9134-1554562800-1554573600@www.peckslip.org
SUMMARY:Peck Slip Variety Show
DESCRIPTION:
URL:http://www.peckslip.org/event/peck-slip-variety-show/
END:VEVENT
BEGIN:VEVENT
DTSTART;TZID=America/Halifax:20190409T084500
DTEND;TZID=America/Halifax:20190409T091500
DTSTAMP:20260421T090537
CREATED:20180927T152413Z
LAST-MODIFIED:20181025T161943Z
UID:8338-1554799500-1554801300@www.peckslip.org
SUMMARY:2nd Grade Family Visit
DESCRIPTION:In your child’s classroom.
URL:http://www.peckslip.org/event/2nd-grade-family-visit-10/
END:VEVENT
BEGIN:VEVENT
DTSTART;TZID=America/Halifax:20190410T083000
DTEND;TZID=America/Halifax:20190410T093000
DTSTAMP:20260421T090537
CREATED:20180719T173041Z
LAST-MODIFIED:20180719T173101Z
UID:7963-1554885000-1554888600@www.peckslip.org
SUMMARY:PTA General Meeting
DESCRIPTION:In the Cafeteria.
URL:http://www.peckslip.org/event/pta-general-meeting-21/
END:VEVENT
BEGIN:VEVENT
DTSTART;TZID=America/Halifax:20190411T150000
DTEND;TZID=America/Halifax:20190411T163000
DTSTAMP:20260421T090537
CREATED:20190411T184931Z
LAST-MODIFIED:20190411T184931Z
UID:9263-1554994800-1555000200@www.peckslip.org
SUMMARY:SLT Meeting
DESCRIPTION:
URL:http://www.peckslip.org/event/slt-meeting-20/
END:VEVENT
BEGIN:VEVENT
DTSTART;TZID=America/Halifax:20190416T083000
DTEND;TZID=America/Halifax:20190416T093000
DTSTAMP:20260421T090537
CREATED:20190405T165222Z
LAST-MODIFIED:20190405T165413Z
UID:9259-1555403400-1555407000@www.peckslip.org
SUMMARY:Puberty Info Session for 5th Grade Families
DESCRIPTION:8:30am in Room 208
URL:http://www.peckslip.org/event/puberty-lessons-recap-for-5th-grade-families/
END:VEVENT
BEGIN:VEVENT
DTSTART;TZID=America/Halifax:20190417T084500
DTEND;TZID=America/Halifax:20190417T091500
DTSTAMP:20260421T090537
CREATED:20181108T150230Z
LAST-MODIFIED:20190405T165116Z
UID:8884-1555490700-1555492500@www.peckslip.org
SUMMARY:4th Grade Family Visit
DESCRIPTION:NEW DATE!
URL:http://www.peckslip.org/event/4th-grade-family-visit-10/
END:VEVENT
BEGIN:VEVENT
DTSTART;TZID=America/Halifax:20190418T082500
DTEND;TZID=America/Halifax:20190418T090000
DTSTAMP:20260421T090537
CREATED:20190403T165105Z
LAST-MODIFIED:20190403T165105Z
UID:9252-1555575900-1555578000@www.peckslip.org
SUMMARY:PreK Family Visit
DESCRIPTION:
URL:http://www.peckslip.org/event/prek-family-visit-8/
END:VEVENT
BEGIN:VEVENT
DTSTART;TZID=America/Halifax:20190418T084500
DTEND;TZID=America/Halifax:20190418T091500
DTSTAMP:20260421T090537
CREATED:20190107T175822Z
LAST-MODIFIED:20190107T175822Z
UID:9091-1555577100-1555578900@www.peckslip.org
SUMMARY:1st Grade Family Visit
DESCRIPTION:
URL:http://www.peckslip.org/event/1st-grade-family-visit-6/
END:VEVENT
BEGIN:VEVENT
DTSTART;TZID=America/Halifax:20190419T080000
DTEND;TZID=America/Halifax:20190426T170000
DTSTAMP:20260421T090537
CREATED:20170711T183635Z
LAST-MODIFIED:20180719T170226Z
UID:3647-1555660800-1556298000@www.peckslip.org
SUMMARY:Spring Recess
DESCRIPTION:School closed.
URL:http://www.peckslip.org/event/spring-recess-2/
END:VEVENT
END:VCALENDAR