BEGIN:VCALENDAR
VERSION:2.0
PRODID:-//Peck Slip School P.S. 343 - ECPv6.14.0//NONSGML v1.0//EN
CALSCALE:GREGORIAN
METHOD:PUBLISH
X-WR-CALNAME:Peck Slip School P.S. 343
X-ORIGINAL-URL:http://www.peckslip.org
X-WR-CALDESC:Events for Peck Slip School P.S. 343
REFRESH-INTERVAL;VALUE=DURATION:PT1H
X-Robots-Tag:noindex
X-PUBLISHED-TTL:PT1H
BEGIN:VTIMEZONE
TZID:America/Halifax
BEGIN:DAYLIGHT
TZOFFSETFROM:-0400
TZOFFSETTO:-0300
TZNAME:ADT
DTSTART:20180311T060000
END:DAYLIGHT
BEGIN:STANDARD
TZOFFSETFROM:-0300
TZOFFSETTO:-0400
TZNAME:AST
DTSTART:20181104T050000
END:STANDARD
END:VTIMEZONE
BEGIN:VEVENT
DTSTART;TZID=America/Halifax:20180410T083000
DTEND;TZID=America/Halifax:20180410T093000
DTSTAMP:20260422T032055
CREATED:20171222T192316Z
LAST-MODIFIED:20180202T172359Z
UID:5782-1523349000-1523352600@www.peckslip.org
SUMMARY:Parent Workshop: Literacy for Grades K-1
DESCRIPTION:NEW DATE! with literacy consultant Jaime Margolies
URL:http://www.peckslip.org/event/parent-workshop-literacy-for-grades-k-1/
END:VEVENT
BEGIN:VEVENT
DTSTART;TZID=America/Halifax:20180411T083000
DTEND;TZID=America/Halifax:20180411T093000
DTSTAMP:20260422T032055
CREATED:20180320T143535Z
LAST-MODIFIED:20180320T143535Z
UID:6894-1523435400-1523439000@www.peckslip.org
SUMMARY:PTA Executive Board Meeting
DESCRIPTION:
URL:http://www.peckslip.org/event/pta-executive-board-meeting-14/
END:VEVENT
BEGIN:VEVENT
DTSTART;TZID=America/Halifax:20180418T083000
DTEND;TZID=America/Halifax:20180418T093000
DTSTAMP:20260422T032055
CREATED:20180316T183710Z
LAST-MODIFIED:20180328T174245Z
UID:6853-1524040200-1524043800@www.peckslip.org
SUMMARY:General PTA Meeting
DESCRIPTION:SLT Election!  Plus Camp Fair from 9:30-10:30am!
URL:http://www.peckslip.org/event/general-pta-meeting-4/
END:VEVENT
BEGIN:VEVENT
DTSTART;TZID=America/Halifax:20180419T150000
DTEND;TZID=America/Halifax:20180419T163000
DTSTAMP:20260422T032055
CREATED:20171109T144032Z
LAST-MODIFIED:20171109T144032Z
UID:4964-1524150000-1524155400@www.peckslip.org
SUMMARY:SLT Meeting
DESCRIPTION:
URL:http://www.peckslip.org/event/slt-meeting-15/
END:VEVENT
BEGIN:VEVENT
DTSTART;TZID=America/Halifax:20180419T174500
DTEND;TZID=America/Halifax:20180419T200000
DTSTAMP:20260422T032055
CREATED:20180301T160650Z
LAST-MODIFIED:20180301T160650Z
UID:6668-1524159900-1524168000@www.peckslip.org
SUMMARY:Me. You. Us. Inclusion Workshop
DESCRIPTION:
URL:http://www.peckslip.org/event/me-you-us-inclusion-workshop/
END:VEVENT
BEGIN:VEVENT
DTSTART;TZID=America/Halifax:20180420T083000
DTEND;TZID=America/Halifax:20180420T093000
DTSTAMP:20260422T032055
CREATED:20171013T134437Z
LAST-MODIFIED:20171013T134437Z
UID:4536-1524213000-1524216600@www.peckslip.org
SUMMARY:Breakfast with Maggie
DESCRIPTION:
URL:http://www.peckslip.org/event/breakfast-with-maggie-15/
END:VEVENT
BEGIN:VEVENT
DTSTART;TZID=America/Halifax:20180420T085000
DTEND;TZID=America/Halifax:20180420T092000
DTSTAMP:20260422T032055
CREATED:20180416T141920Z
LAST-MODIFIED:20180416T160412Z
UID:7141-1524214200-1524216000@www.peckslip.org
SUMMARY:Kindergarten Family Friday
DESCRIPTION:
URL:http://www.peckslip.org/event/kindergarten-family-friday-8/
END:VEVENT
BEGIN:VEVENT
DTSTART;TZID=America/Halifax:20180426T082000
DTEND;TZID=America/Halifax:20180426T085000
DTSTAMP:20260422T032055
CREATED:20180131T184150Z
LAST-MODIFIED:20180416T141841Z
UID:6220-1524730800-1524732600@www.peckslip.org
SUMMARY:PreK Family Visit - NEW DATE!
DESCRIPTION:
URL:http://www.peckslip.org/event/prek-family-visit-3/
END:VEVENT
END:VCALENDAR