BEGIN:VCALENDAR
VERSION:2.0
PRODID:-//Peck Slip School P.S. 343 - ECPv6.14.0//NONSGML v1.0//EN
CALSCALE:GREGORIAN
METHOD:PUBLISH
X-WR-CALNAME:Peck Slip School P.S. 343
X-ORIGINAL-URL:http://www.peckslip.org
X-WR-CALDESC:Events for Peck Slip School P.S. 343
REFRESH-INTERVAL;VALUE=DURATION:PT1H
X-Robots-Tag:noindex
X-PUBLISHED-TTL:PT1H
BEGIN:VTIMEZONE
TZID:America/Halifax
BEGIN:DAYLIGHT
TZOFFSETFROM:-0400
TZOFFSETTO:-0300
TZNAME:ADT
DTSTART:20170312T060000
END:DAYLIGHT
BEGIN:STANDARD
TZOFFSETFROM:-0300
TZOFFSETTO:-0400
TZNAME:AST
DTSTART:20171105T050000
END:STANDARD
END:VTIMEZONE
BEGIN:VEVENT
DTSTART;TZID=America/Halifax:20171004T170000
DTEND;TZID=America/Halifax:20171004T180000
DTSTAMP:20260422T162458
CREATED:20171004T200512Z
LAST-MODIFIED:20171004T200512Z
UID:4247-1507136400-1507140000@www.peckslip.org
SUMMARY:Middle School Meeting
DESCRIPTION:For 5th Grade Families
URL:http://www.peckslip.org/event/middle-school-meeting/
END:VEVENT
BEGIN:VEVENT
DTSTART;TZID=America/Halifax:20171006T080000
DTEND;TZID=America/Halifax:20171006T170000
DTSTAMP:20260422T162458
CREATED:20171002T164819Z
LAST-MODIFIED:20171002T164819Z
UID:4146-1507276800-1507309200@www.peckslip.org
SUMMARY:1st Grade Family Friday
DESCRIPTION:8:45 in your child’s classroom.
URL:http://www.peckslip.org/event/1st-grade-family-friday-5/
END:VEVENT
BEGIN:VEVENT
DTSTART;TZID=America/Halifax:20171011T083000
DTEND;TZID=America/Halifax:20171011T093000
DTSTAMP:20260422T162458
CREATED:20171011T191730Z
LAST-MODIFIED:20171011T191730Z
UID:4449-1507710600-1507714200@www.peckslip.org
SUMMARY:General PTA Meeting
DESCRIPTION:In the Cafeteria.
URL:http://www.peckslip.org/event/general-pta-meeting-3/
END:VEVENT
BEGIN:VEVENT
DTSTART;TZID=America/Halifax:20171013T080000
DTEND;TZID=America/Halifax:20171013T170000
DTSTAMP:20260422T162458
CREATED:20171006T195706Z
LAST-MODIFIED:20171006T195725Z
UID:4356-1507881600-1507914000@www.peckslip.org
SUMMARY:Breakfast With Maggie
DESCRIPTION:8:30 in Room 226.
URL:http://www.peckslip.org/event/breakfast-with-maggie-8/
END:VEVENT
BEGIN:VEVENT
DTSTART;TZID=America/Halifax:20171017T080000
DTEND;TZID=America/Halifax:20171017T170000
DTSTAMP:20260422T162458
CREATED:20171002T161130Z
LAST-MODIFIED:20171002T161130Z
UID:4138-1508227200-1508259600@www.peckslip.org
SUMMARY:3rd Grade Family Visit
DESCRIPTION:8:30am in your child’s classroom.
URL:http://www.peckslip.org/event/3rd-grade-family-visit/
END:VEVENT
BEGIN:VEVENT
DTSTART;TZID=America/Halifax:20171018T174500
DTEND;TZID=America/Halifax:20171018T200000
DTSTAMP:20260422T162458
CREATED:20171006T142755Z
LAST-MODIFIED:20171006T143708Z
UID:4313-1508348700-1508356800@www.peckslip.org
SUMMARY:Diversity/Inclusion Workshop
DESCRIPTION:
URL:http://www.peckslip.org/event/diversityinclusion-workshop/
END:VEVENT
BEGIN:VEVENT
DTSTART;TZID=America/Halifax:20171019T080000
DTEND;TZID=America/Halifax:20171019T170000
DTSTAMP:20260422T162458
CREATED:20170915T175048Z
LAST-MODIFIED:20170915T175048Z
UID:3922-1508400000-1508432400@www.peckslip.org
SUMMARY:Picture Day
DESCRIPTION:
URL:http://www.peckslip.org/event/picture-day-4/
END:VEVENT
BEGIN:VEVENT
DTSTART;TZID=America/Halifax:20171019T084500
DTEND;TZID=America/Halifax:20171019T091500
DTSTAMP:20260422T162458
CREATED:20171002T160756Z
LAST-MODIFIED:20171011T174836Z
UID:4132-1508402700-1508404500@www.peckslip.org
SUMMARY:2nd Grade Family Visit
DESCRIPTION:8:45am in your child’s classroom.
URL:http://www.peckslip.org/event/2nd-grade-family-friday-4/
END:VEVENT
BEGIN:VEVENT
DTSTART;TZID=America/Halifax:20171020T080000
DTEND;TZID=America/Halifax:20171020T170000
DTSTAMP:20260422T162458
CREATED:20171002T155820Z
LAST-MODIFIED:20171002T155820Z
UID:4126-1508486400-1508518800@www.peckslip.org
SUMMARY:PreK Family Friday
DESCRIPTION:8:25 in your child’s classroom.
URL:http://www.peckslip.org/event/prek-family-friday-2/
END:VEVENT
BEGIN:VEVENT
DTSTART;TZID=America/Halifax:20171020T080000
DTEND;TZID=America/Halifax:20171020T170000
DTSTAMP:20260422T162458
CREATED:20170915T175022Z
LAST-MODIFIED:20170915T175119Z
UID:3920-1508486400-1508518800@www.peckslip.org
SUMMARY:Picture Day
DESCRIPTION:
URL:http://www.peckslip.org/event/picture-day-3/
END:VEVENT
BEGIN:VEVENT
DTSTART;VALUE=DATE:20171021
DTEND;VALUE=DATE:20171022
DTSTAMP:20260422T162458
CREATED:20170915T181842Z
LAST-MODIFIED:20171006T145440Z
UID:3926-1508544000-1508630399@www.peckslip.org
SUMMARY:Taste of the Seaport
DESCRIPTION:
URL:http://www.peckslip.org/event/taste-ofthe-seaport/
END:VEVENT
BEGIN:VEVENT
DTSTART;TZID=America/Halifax:20171026T084500
DTEND;TZID=America/Halifax:20171026T091500
DTSTAMP:20260422T162458
CREATED:20171010T151804Z
LAST-MODIFIED:20171010T151804Z
UID:4391-1509007500-1509009300@www.peckslip.org
SUMMARY:5th Grade Family Visit
DESCRIPTION:8:45-9:15am in your child’s classroom.
URL:http://www.peckslip.org/event/5th-grade-family-visit/
END:VEVENT
BEGIN:VEVENT
DTSTART;TZID=America/Halifax:20171027T085000
DTEND;TZID=America/Halifax:20171027T091500
DTSTAMP:20260422T162458
CREATED:20171004T201322Z
LAST-MODIFIED:20171004T201615Z
UID:4250-1509094200-1509095700@www.peckslip.org
SUMMARY:Kindergarten Family Friday
DESCRIPTION:8:50am in your child’s classroom.
URL:http://www.peckslip.org/event/kindergarten-family-friday-5/
END:VEVENT
END:VCALENDAR