BEGIN:VCALENDAR
VERSION:2.0
PRODID:-//Peck Slip School P.S. 343 - ECPv6.14.0//NONSGML v1.0//EN
CALSCALE:GREGORIAN
METHOD:PUBLISH
X-WR-CALNAME:Peck Slip School P.S. 343
X-ORIGINAL-URL:http://www.peckslip.org
X-WR-CALDESC:Events for Peck Slip School P.S. 343
REFRESH-INTERVAL;VALUE=DURATION:PT1H
X-Robots-Tag:noindex
X-PUBLISHED-TTL:PT1H
BEGIN:VTIMEZONE
TZID:America/Halifax
BEGIN:DAYLIGHT
TZOFFSETFROM:-0400
TZOFFSETTO:-0300
TZNAME:ADT
DTSTART:20170312T060000
END:DAYLIGHT
BEGIN:STANDARD
TZOFFSETFROM:-0300
TZOFFSETTO:-0400
TZNAME:AST
DTSTART:20171105T050000
END:STANDARD
END:VTIMEZONE
BEGIN:VEVENT
DTSTART;TZID=America/Halifax:20170905T133000
DTEND;TZID=America/Halifax:20170905T150000
DTSTAMP:20260422T175610
CREATED:20170711T181424Z
LAST-MODIFIED:20170711T181424Z
UID:3619-1504618200-1504623600@www.peckslip.org
SUMMARY:Kindergarten Orientation
DESCRIPTION:
URL:http://www.peckslip.org/event/kindergarten-orientation-2/
END:VEVENT
BEGIN:VEVENT
DTSTART;TZID=America/Halifax:20170920T083000
DTEND;TZID=America/Halifax:20170920T093000
DTSTAMP:20260422T175610
CREATED:20170915T175218Z
LAST-MODIFIED:20170915T175218Z
UID:3924-1505896200-1505899800@www.peckslip.org
SUMMARY:PTA General Meeting
DESCRIPTION:in the Cafeteria.
URL:http://www.peckslip.org/event/pta-general-meeting/
END:VEVENT
END:VCALENDAR