BEGIN:VCALENDAR
VERSION:2.0
PRODID:-//Peck Slip School P.S. 343 - ECPv6.14.0//NONSGML v1.0//EN
CALSCALE:GREGORIAN
METHOD:PUBLISH
X-WR-CALNAME:Peck Slip School P.S. 343
X-ORIGINAL-URL:http://www.peckslip.org
X-WR-CALDESC:Events for Peck Slip School P.S. 343
REFRESH-INTERVAL;VALUE=DURATION:PT1H
X-Robots-Tag:noindex
X-PUBLISHED-TTL:PT1H
BEGIN:VTIMEZONE
TZID:America/Halifax
BEGIN:DAYLIGHT
TZOFFSETFROM:-0400
TZOFFSETTO:-0300
TZNAME:ADT
DTSTART:20170312T060000
END:DAYLIGHT
BEGIN:STANDARD
TZOFFSETFROM:-0300
TZOFFSETTO:-0400
TZNAME:AST
DTSTART:20171105T050000
END:STANDARD
END:VTIMEZONE
BEGIN:VEVENT
DTSTART;TZID=America/Halifax:20170502T080000
DTEND;TZID=America/Halifax:20170502T170000
DTSTAMP:20260422T235123
CREATED:20170110T192657Z
LAST-MODIFIED:20170110T192657Z
UID:1607-1493712000-1493744400@www.peckslip.org
SUMMARY:Math State Test
DESCRIPTION:
URL:http://www.peckslip.org/event/math-state-test/
END:VEVENT
BEGIN:VEVENT
DTSTART;TZID=America/Halifax:20170503T080000
DTEND;TZID=America/Halifax:20170503T170000
DTSTAMP:20260422T235123
CREATED:20170110T192725Z
LAST-MODIFIED:20170110T192725Z
UID:1609-1493798400-1493830800@www.peckslip.org
SUMMARY:Math State Test
DESCRIPTION:
URL:http://www.peckslip.org/event/math-state-test-2/
END:VEVENT
BEGIN:VEVENT
DTSTART;TZID=America/Halifax:20170503T083000
DTEND;TZID=America/Halifax:20170503T093000
DTSTAMP:20260422T235123
CREATED:20161019T162520Z
LAST-MODIFIED:20161019T162520Z
UID:765-1493800200-1493803800@www.peckslip.org
SUMMARY:PTA Executive Board Meeting
DESCRIPTION:In the Library.
URL:http://www.peckslip.org/event/pta-executive-board-meeting-6/
END:VEVENT
BEGIN:VEVENT
DTSTART;TZID=America/Halifax:20170504T080000
DTEND;TZID=America/Halifax:20170504T170000
DTSTAMP:20260422T235123
CREATED:20170110T192749Z
LAST-MODIFIED:20170110T192749Z
UID:1611-1493884800-1493917200@www.peckslip.org
SUMMARY:Math State Test
DESCRIPTION:
URL:http://www.peckslip.org/event/math-state-test-3/
END:VEVENT
BEGIN:VEVENT
DTSTART;TZID=America/Halifax:20170505T082000
DTEND;TZID=America/Halifax:20170505T144000
DTSTAMP:20260422T235123
CREATED:20170426T181256Z
LAST-MODIFIED:20170426T181256Z
UID:3020-1493972400-1493995200@www.peckslip.org
SUMMARY:Teacher Appreciation Day
DESCRIPTION:
URL:http://www.peckslip.org/event/teacher-appreciation-day/
END:VEVENT
BEGIN:VEVENT
DTSTART;TZID=America/Halifax:20170505T083000
DTEND;TZID=America/Halifax:20170505T093000
DTSTAMP:20260422T235123
CREATED:20170210T190231Z
LAST-MODIFIED:20170210T190231Z
UID:2154-1493973000-1493976600@www.peckslip.org
SUMMARY:Breakfast with Maggie
DESCRIPTION:
URL:http://www.peckslip.org/event/breakfast-with-maggie-7/
END:VEVENT
BEGIN:VEVENT
DTSTART;TZID=America/Halifax:20170509T190000
DTEND;TZID=America/Halifax:20170509T220000
DTSTAMP:20260422T235123
CREATED:20170508T191017Z
LAST-MODIFIED:20170508T191017Z
UID:3150-1494356400-1494367200@www.peckslip.org
SUMMARY:Peck Slip Trivia Night!
DESCRIPTION:7PM at Jeremy’s Ale House!
URL:http://www.peckslip.org/event/peck-slip-trivia-night/
END:VEVENT
BEGIN:VEVENT
DTSTART;TZID=America/Halifax:20170510T080000
DTEND;TZID=America/Halifax:20170510T170000
DTSTAMP:20260422T235123
CREATED:20161019T163155Z
LAST-MODIFIED:20161019T163155Z
UID:771-1494403200-1494435600@www.peckslip.org
SUMMARY:General PTA Meeting
DESCRIPTION:In the Cafeteria. Time TBD.
URL:http://www.peckslip.org/event/general-pta-meeting/
END:VEVENT
BEGIN:VEVENT
DTSTART;TZID=America/Halifax:20170512T083000
DTEND;TZID=America/Halifax:20170512T100000
DTSTAMP:20260422T235123
CREATED:20170508T191125Z
LAST-MODIFIED:20170508T191125Z
UID:3152-1494577800-1494583200@www.peckslip.org
SUMMARY:Discipline Workshop with Sean Grover
DESCRIPTION:
URL:http://www.peckslip.org/event/discipline-workshop-with-sean-grover/
END:VEVENT
BEGIN:VEVENT
DTSTART;TZID=America/Halifax:20170516T083000
DTEND;TZID=America/Halifax:20170516T093000
DTSTAMP:20260422T235123
CREATED:20170420T175617Z
LAST-MODIFIED:20170420T175617Z
UID:2952-1494923400-1494927000@www.peckslip.org
SUMMARY:Parent Workshop: How Reading Develops in 1st-2nd Grade
DESCRIPTION:Join literacy consultant Jaime Margolies and Peck Slip staff to learn how reading skills develop\, and how families can support their children in the process.
URL:http://www.peckslip.org/event/parent-workshop-how-reading-develops-in-1st-2nd-grade/
END:VEVENT
BEGIN:VEVENT
DTSTART;TZID=America/Halifax:20170517T174500
DTEND;TZID=America/Halifax:20170517T200000
DTSTAMP:20260422T235123
CREATED:20170508T191247Z
LAST-MODIFIED:20170508T191247Z
UID:3154-1495043100-1495051200@www.peckslip.org
SUMMARY:Me. You. Us. Sharing Our Stories
DESCRIPTION:
URL:http://www.peckslip.org/event/me-you-us-sharing-our-stories/
END:VEVENT
BEGIN:VEVENT
DTSTART;TZID=America/Halifax:20170519T084500
DTEND;TZID=America/Halifax:20170519T093000
DTSTAMP:20260422T235123
CREATED:20170425T122141Z
LAST-MODIFIED:20170425T122141Z
UID:2994-1495183500-1495186200@www.peckslip.org
SUMMARY:1st Grade Family Friday
DESCRIPTION:
URL:http://www.peckslip.org/event/1st-grade-family-friday-3/
END:VEVENT
BEGIN:VEVENT
DTSTART;TZID=America/Halifax:20170525T150000
DTEND;TZID=America/Halifax:20170525T163000
DTSTAMP:20260422T235123
CREATED:20161019T184243Z
LAST-MODIFIED:20161019T184243Z
UID:799-1495724400-1495729800@www.peckslip.org
SUMMARY:SLT Meeting
DESCRIPTION:In the Library.
URL:http://www.peckslip.org/event/slt-meeting-8/
END:VEVENT
BEGIN:VEVENT
DTSTART;TZID=America/Halifax:20170526T083000
DTEND;TZID=America/Halifax:20170526T091500
DTSTAMP:20260422T235123
CREATED:20170208T201921Z
LAST-MODIFIED:20170505T180420Z
UID:2104-1495787400-1495790100@www.peckslip.org
SUMMARY:Kindergarten Family Friday
DESCRIPTION:
URL:http://www.peckslip.org/event/kindergarten-family-friday-4/
END:VEVENT
BEGIN:VEVENT
DTSTART;TZID=America/Halifax:20170529T080000
DTEND;TZID=America/Halifax:20170529T170000
DTSTAMP:20260422T235123
CREATED:20160818T123823Z
LAST-MODIFIED:20161019T152752Z
UID:528-1496044800-1496077200@www.peckslip.org
SUMMARY:School Closed
DESCRIPTION:Memorial Day
URL:http://www.peckslip.org/event/memorial-day/
END:VEVENT
BEGIN:VEVENT
DTSTART;TZID=America/Halifax:20170530T174500
DTEND;TZID=America/Halifax:20170530T194500
DTSTAMP:20260422T235123
CREATED:20170524T155152Z
LAST-MODIFIED:20170524T155152Z
UID:3332-1496166300-1496173500@www.peckslip.org
SUMMARY:PTA Big Budget Meeting
DESCRIPTION:Pizza and babysitting provided for school-aged children.
URL:http://www.peckslip.org/event/pta-big-budget-meeting/
END:VEVENT
END:VCALENDAR