BEGIN:VCALENDAR
VERSION:2.0
PRODID:-//Peck Slip School P.S. 343 - ECPv6.14.0//NONSGML v1.0//EN
CALSCALE:GREGORIAN
METHOD:PUBLISH
X-ORIGINAL-URL:http://www.peckslip.org
X-WR-CALDESC:Events for Peck Slip School P.S. 343
REFRESH-INTERVAL;VALUE=DURATION:PT1H
X-Robots-Tag:noindex
X-PUBLISHED-TTL:PT1H
BEGIN:VTIMEZONE
TZID:America/Halifax
BEGIN:DAYLIGHT
TZOFFSETFROM:-0400
TZOFFSETTO:-0300
TZNAME:ADT
DTSTART:20170312T060000
END:DAYLIGHT
BEGIN:STANDARD
TZOFFSETFROM:-0300
TZOFFSETTO:-0400
TZNAME:AST
DTSTART:20171105T050000
END:STANDARD
END:VTIMEZONE
BEGIN:VEVENT
DTSTART;TZID=America/Halifax:20170201T083000
DTEND;TZID=America/Halifax:20170201T093000
DTSTAMP:20260423T035948
CREATED:20170119T174034Z
LAST-MODIFIED:20170119T174034Z
UID:1715-1485937800-1485941400@www.peckslip.org
SUMMARY:Taste of the Seaport Meeting
DESCRIPTION:in the Cafeteria
URL:http://www.peckslip.org/event/taste-of-the-seaport-meeting/
END:VEVENT
BEGIN:VEVENT
DTSTART;TZID=America/Halifax:20170201T083000
DTEND;TZID=America/Halifax:20170201T093000
DTSTAMP:20260423T035948
CREATED:20161019T162309Z
LAST-MODIFIED:20161019T162309Z
UID:759-1485937800-1485941400@www.peckslip.org
SUMMARY:PTA Executive Board Meeting
DESCRIPTION:In the Library.
URL:http://www.peckslip.org/event/pta-executive-board-meeting-3/
END:VEVENT
BEGIN:VEVENT
DTSTART;TZID=America/Halifax:20170201T145000
DTEND;TZID=America/Halifax:20170201T155500
DTSTAMP:20260423T035948
CREATED:20170110T185707Z
LAST-MODIFIED:20170110T185906Z
UID:1563-1485960600-1485964500@www.peckslip.org
SUMMARY:Test Prep for State Tests
DESCRIPTION:
URL:http://www.peckslip.org/event/test-prep-for-state-tests-4/
END:VEVENT
BEGIN:VEVENT
DTSTART;TZID=America/Halifax:20170202T083000
DTEND;TZID=America/Halifax:20170202T093000
DTSTAMP:20260423T035948
CREATED:20161019T145936Z
LAST-MODIFIED:20170124T152313Z
UID:722-1486024200-1486027800@www.peckslip.org
SUMMARY:Parent Workshop: Testing
DESCRIPTION:New Date! Room 226.
URL:http://www.peckslip.org/event/parent-workshop-testing/
END:VEVENT
BEGIN:VEVENT
DTSTART;TZID=America/Halifax:20170206T145000
DTEND;TZID=America/Halifax:20170206T155500
DTSTAMP:20260423T035948
CREATED:20170110T185946Z
LAST-MODIFIED:20170110T185946Z
UID:1566-1486392600-1486396500@www.peckslip.org
SUMMARY:Test Prep for State Tests
DESCRIPTION:
URL:http://www.peckslip.org/event/test-prep-for-state-tests-5/
END:VEVENT
BEGIN:VEVENT
DTSTART;TZID=America/Halifax:20170208T083000
DTEND;TZID=America/Halifax:20170208T093000
DTSTAMP:20260423T035948
CREATED:20161019T151201Z
LAST-MODIFIED:20161019T151201Z
UID:739-1486542600-1486546200@www.peckslip.org
SUMMARY:PTA General Meeting
DESCRIPTION:8:30am in the Cafeteria.
URL:http://www.peckslip.org/event/pta-general-meeting-6/
END:VEVENT
BEGIN:VEVENT
DTSTART;TZID=America/Halifax:20170208T145000
DTEND;TZID=America/Halifax:20170208T155500
DTSTAMP:20260423T035948
CREATED:20170110T190023Z
LAST-MODIFIED:20170110T190023Z
UID:1568-1486565400-1486569300@www.peckslip.org
SUMMARY:Test Prep for State Tests
DESCRIPTION:
URL:http://www.peckslip.org/event/test-prep-for-state-tests-6/
END:VEVENT
BEGIN:VEVENT
DTSTART;TZID=America/Halifax:20170210T083000
DTEND;TZID=America/Halifax:20170210T093000
DTSTAMP:20260423T035948
CREATED:20170206T144402Z
LAST-MODIFIED:20170206T144402Z
UID:2061-1486715400-1486719000@www.peckslip.org
SUMMARY:Breakfast with Maggie
DESCRIPTION:Room 226.
URL:http://www.peckslip.org/event/breakfast-with-maggie-4/
END:VEVENT
BEGIN:VEVENT
DTSTART;TZID=America/Halifax:20170211T143000
DTEND;TZID=America/Halifax:20170211T163000
DTSTAMP:20260423T035948
CREATED:20170105T172726Z
LAST-MODIFIED:20170105T172726Z
UID:1486-1486823400-1486830600@www.peckslip.org
SUMMARY:Peck Slip Players Presents: The 3rd Annual Variety Show
DESCRIPTION:Small World/Big Stars!
URL:http://www.peckslip.org/event/peck-slip-players-presents-the-3rd-annual-variety-show/
END:VEVENT
BEGIN:VEVENT
DTSTART;TZID=America/Halifax:20170213T145000
DTEND;TZID=America/Halifax:20170213T155500
DTSTAMP:20260423T035948
CREATED:20170110T190105Z
LAST-MODIFIED:20170110T190105Z
UID:1570-1486997400-1487001300@www.peckslip.org
SUMMARY:Test Prep for State Tests
DESCRIPTION:
URL:http://www.peckslip.org/event/test-prep-for-state-tests-7/
END:VEVENT
BEGIN:VEVENT
DTSTART;TZID=America/Halifax:20170214T083000
DTEND;TZID=America/Halifax:20170214T093000
DTSTAMP:20260423T035948
CREATED:20170210T202203Z
LAST-MODIFIED:20170210T202203Z
UID:2160-1487061000-1487064600@www.peckslip.org
SUMMARY:Auction Committee Meeting
DESCRIPTION:In Room 226.
URL:http://www.peckslip.org/event/auction-committee-meeting-5/
END:VEVENT
BEGIN:VEVENT
DTSTART;TZID=America/Halifax:20170216T084500
DTEND;TZID=America/Halifax:20170216T093000
DTSTAMP:20260423T035948
CREATED:20170215T201834Z
LAST-MODIFIED:20170215T201834Z
UID:2194-1487234700-1487237400@www.peckslip.org
SUMMARY:4th Grade New Amsterdam Celebration
DESCRIPTION:
URL:http://www.peckslip.org/event/4th-grade-new-amsterdam-celebration/
END:VEVENT
BEGIN:VEVENT
DTSTART;TZID=America/Halifax:20170216T150000
DTEND;TZID=America/Halifax:20170216T163000
DTSTAMP:20260423T035948
CREATED:20161019T184046Z
LAST-MODIFIED:20161019T184046Z
UID:793-1487257200-1487262600@www.peckslip.org
SUMMARY:SLT Meeting
DESCRIPTION:In the Library.
URL:http://www.peckslip.org/event/slt-meeting-5/
END:VEVENT
BEGIN:VEVENT
DTSTART;TZID=America/Halifax:20170217T083000
DTEND;TZID=America/Halifax:20170217T093000
DTSTAMP:20260423T035948
CREATED:20170125T200337Z
LAST-MODIFIED:20170126T165212Z
UID:1814-1487320200-1487323800@www.peckslip.org
SUMMARY:1st Grade Family Friday
DESCRIPTION:In your child’s classroom.
URL:http://www.peckslip.org/event/1st-grade-family-friday-2/
END:VEVENT
BEGIN:VEVENT
DTSTART;TZID=America/Halifax:20170217T090000
DTEND;TZID=America/Halifax:20170217T100000
DTSTAMP:20260423T035948
CREATED:20170119T182840Z
LAST-MODIFIED:20170119T182945Z
UID:1718-1487322000-1487325600@www.peckslip.org
SUMMARY:3rd Grade Brooklyn Bridge Celebration
DESCRIPTION:in your child’s classroom.
URL:http://www.peckslip.org/event/3rd-grade-family-friday/
END:VEVENT
BEGIN:VEVENT
DTSTART;TZID=America/Halifax:20170220T080000
DTEND;TZID=America/Halifax:20170224T170000
DTSTAMP:20260423T035948
CREATED:20160818T123559Z
LAST-MODIFIED:20160818T123559Z
UID:525-1487577600-1487955600@www.peckslip.org
SUMMARY:Midwinter Recess
DESCRIPTION:School Closed.
URL:http://www.peckslip.org/event/midwinter-recess/
END:VEVENT
BEGIN:VEVENT
DTSTART;TZID=America/Halifax:20170227T145000
DTEND;TZID=America/Halifax:20170227T155500
DTSTAMP:20260423T035948
CREATED:20170110T190318Z
LAST-MODIFIED:20170110T190318Z
UID:1574-1488207000-1488210900@www.peckslip.org
SUMMARY:Test Prep for State Tests
DESCRIPTION:
URL:http://www.peckslip.org/event/test-prep-for-state-tests-9/
END:VEVENT
BEGIN:VEVENT
DTSTART;TZID=America/Halifax:20170228T133000
DTEND;TZID=America/Halifax:20170228T141500
DTSTAMP:20260423T035948
CREATED:20170227T211809Z
LAST-MODIFIED:20170227T211809Z
UID:2281-1488288600-1488291300@www.peckslip.org
SUMMARY:Safety Meeting
DESCRIPTION:
URL:http://www.peckslip.org/event/safety-meeting/
END:VEVENT
END:VCALENDAR