BEGIN:VCALENDAR
VERSION:2.0
PRODID:-//Peck Slip School P.S. 343 - ECPv6.14.0//NONSGML v1.0//EN
CALSCALE:GREGORIAN
METHOD:PUBLISH
X-WR-CALNAME:Peck Slip School P.S. 343
X-ORIGINAL-URL:http://www.peckslip.org
X-WR-CALDESC:Events for Peck Slip School P.S. 343
REFRESH-INTERVAL;VALUE=DURATION:PT1H
X-Robots-Tag:noindex
X-PUBLISHED-TTL:PT1H
BEGIN:VTIMEZONE
TZID:America/New_York
BEGIN:DAYLIGHT
TZOFFSETFROM:-0500
TZOFFSETTO:-0400
TZNAME:EDT
DTSTART:20160313T070000
END:DAYLIGHT
BEGIN:STANDARD
TZOFFSETFROM:-0400
TZOFFSETTO:-0500
TZNAME:EST
DTSTART:20161106T060000
END:STANDARD
END:VTIMEZONE
BEGIN:VEVENT
DTSTART;TZID=America/New_York:20160828T120000
DTEND;TZID=America/New_York:20160828T150000
DTSTAMP:20260423T130720
CREATED:20160811T221748Z
LAST-MODIFIED:20160817T185550Z
UID:282-1472385600-1472396400@www.peckslip.org
SUMMARY:Peck Slip K and 1st Grade Mixer
DESCRIPTION:Join 1st Grade Families as we welcome the incoming Kindergartners to Peck Slip School PS 343\nDate: Sunday\, August 28th (NO RAIN DATE) \nTime: 12pm – 3pm\nLocation: Battery Oval\nFYI: Siblings Welcome\nBYO: Bring Your Own (Lunch\, Drinks\, Picnic blankets) \nThere will be limited (complimentary) snacks\, music provided by the Pine Street Music Studio & extra picnic blankets on hand. Please bring your sunscreen & H2O! \nIf you would like to volunteer to help set up\, be a greeter to welcome families into the Oval\, etc – please email: \nIncoming Kindergarten Mom\, Cari Gelber\, carimgelber@gmail.com\,   OR\nLea Denis\, Mom to a Kindergartner & rising 4th grader\,pinestreetmusicstudio@gmail.com\, OR\nRachel Lang\, Mom to rising 1st grader & pre-K’er facelovefit@gmail.com\, OR\nDenise Courter\, Mom to a rising 1st grader & a rising 3rd grader. denise@fidifamilies.com \nThe Battery Oval is located next to Castle Clinton and we will have balloons to mark the spot!
URL:http://www.peckslip.org/event/mauris-pharetra/
LOCATION:Battery Oval
END:VEVENT
END:VCALENDAR